BEGIN:VCALENDAR
VERSION:2.0
PRODID:-//hacksw/handcal//NONSGML v1.0//EN
BEGIN:VEVENT
SUMMARY:1er Masters Interne Doublette a la melee  CLASSEMENT
UID:0ed70395-c520-48e8-b331-1e27969871b3
DTSTART:20260410T150000Z
DTEND:20260410T210000Z
LOCATION:Localisation   
CATEGORIES:Sportif
STATUS:
URL;VALUE=URI:https://troarn-petanque.sportsregions.fr/evenements/2026/04/10/1er-masters-interne-doublette-a-la-melee-classement-2377292
END:VEVENT
END:VCALENDAR
